BEGIN:VCALENDAR
VERSION:2.0
PRODID:-//FirstIdea Consulting Limited - ECPv6.9.0//NONSGML v1.0//EN
CALSCALE:GREGORIAN
METHOD:PUBLISH
X-WR-CALNAME:FirstIdea Consulting Limited
X-ORIGINAL-URL:https://firstideaconsulting.co.ke
X-WR-CALDESC:Events for FirstIdea Consulting Limited
REFRESH-INTERVAL;VALUE=DURATION:PT1H
X-Robots-Tag:noindex
X-PUBLISHED-TTL:PT1H
BEGIN:VTIMEZONE
TZID:Africa/Nairobi
BEGIN:STANDARD
TZOFFSETFROM:+0300
TZOFFSETTO:+0300
TZNAME:EAT
DTSTART:20230101T000000
END:STANDARD
TZID:Europe/Moscow
BEGIN:STANDARD
TZOFFSETFROM:+0300
TZOFFSETTO:+0300
TZNAME:MSK
DTSTART:20230101T000000
END:STANDARD
END:VTIMEZONE
BEGIN:VEVENT
DTSTART;VALUE=DATE:20231208
DTEND;VALUE=DATE:20231209
DTSTAMP:20260421T234939
CREATED:20250113T075941Z
LAST-MODIFIED:20250113T075941Z
UID:10000011-1701993600-1702079999@firstideaconsulting.co.ke
SUMMARY:Institute of Risk Management (IRM) Conference
DESCRIPTION:Event: Institute of Risk Management (IRM) Conference\nDate: Friday\, December 8\,2023\nVenue: Villa Rosa Kempinski Hotel\nOrganized by: Institute of Risk Management East Africa\nDescription: FirstIdea Consulting Limited was honored to sponsor and participate in the Institute\nof Risk Management (IRM) East Africa Annual Conference held on Friday\, 8 December 2023 at\nKempinski\, Nairobi\, Kenya. We continue to uphold our absolute commitment to the Risk Profession\nas we and being the Trusted Advisors in matters Enterprise Risk Management (ERM). \nOur Director Caroline Gathii\, GradIRM a member of the IRM East Africa Board played a role in her\ncapacity to be part of the successful conference. Her passion for building risk professionals\ncontinues to be of great value to the East Africa Region. \nWe value our continued partnership with IRM East Africa.
URL:https://firstideaconsulting.co.ke/event/institute-of-risk-management-irm-conference/
LOCATION:Villa Rosa\, Kempinski Hotel\, Chiromo Rd\, Nairobi\, Nairobi\, Nairobi\, 00100\, Kenya
ATTACH;FMTTYPE=image/jpeg:https://firstideaconsulting.co.ke/wp-content/uploads/2025/01/1702994798196.jpg
END:VEVENT
BEGIN:VEVENT
DTSTART;TZID=Africa/Nairobi:20230928T170000
DTEND;TZID=Africa/Nairobi:20230928T180000
DTSTAMP:20260421T234939
CREATED:20230304T182112Z
LAST-MODIFIED:20230304T182112Z
UID:10000008-1695920400-1695924000@firstideaconsulting.co.ke
SUMMARY:Developing a Risk Register
DESCRIPTION:
URL:https://firstideaconsulting.co.ke/event/developing-a-risk-register/
LOCATION:Zoom
END:VEVENT
BEGIN:VEVENT
DTSTART;TZID=Africa/Nairobi:20230831T170000
DTEND;TZID=Africa/Nairobi:20230831T180000
DTSTAMP:20260421T234939
CREATED:20230304T181946Z
LAST-MODIFIED:20230304T181946Z
UID:10000007-1693501200-1693504800@firstideaconsulting.co.ke
SUMMARY:Risk Committees & their Roles
DESCRIPTION:
URL:https://firstideaconsulting.co.ke/event/risk-committees-their-roles/
LOCATION:Zoom
END:VEVENT
BEGIN:VEVENT
DTSTART;TZID=Africa/Nairobi:20230727T170000
DTEND;TZID=Africa/Nairobi:20230727T180000
DTSTAMP:20260421T234939
CREATED:20230304T181856Z
LAST-MODIFIED:20230304T181856Z
UID:10000006-1690477200-1690480800@firstideaconsulting.co.ke
SUMMARY:Key Risk Indicators
DESCRIPTION:
URL:https://firstideaconsulting.co.ke/event/key-risk-indicators/
LOCATION:Zoom
END:VEVENT
BEGIN:VEVENT
DTSTART;TZID=Africa/Nairobi:20230629T170000
DTEND;TZID=Africa/Nairobi:20230629T180000
DTSTAMP:20260421T234939
CREATED:20230304T181756Z
LAST-MODIFIED:20230304T181756Z
UID:10000005-1688058000-1688061600@firstideaconsulting.co.ke
SUMMARY:Setting Up a Risk Department
DESCRIPTION:
URL:https://firstideaconsulting.co.ke/event/setting-up-a-risk-department/
LOCATION:Zoom
END:VEVENT
BEGIN:VEVENT
DTSTART;TZID=Africa/Nairobi:20230525T170000
DTEND;TZID=Africa/Nairobi:20230525T180000
DTSTAMP:20260421T234939
CREATED:20230304T181642Z
LAST-MODIFIED:20230304T181642Z
UID:10000004-1685034000-1685037600@firstideaconsulting.co.ke
SUMMARY:Sources of Risk
DESCRIPTION:
URL:https://firstideaconsulting.co.ke/event/sources-of-risk/
LOCATION:Zoom
END:VEVENT
BEGIN:VEVENT
DTSTART;TZID=Europe/Moscow:20230427T170000
DTEND;TZID=Europe/Moscow:20230427T180000
DTSTAMP:20260421T234939
CREATED:20230304T181512Z
LAST-MODIFIED:20230304T181512Z
UID:10000003-1682614800-1682618400@firstideaconsulting.co.ke
SUMMARY:Risk Management Process
DESCRIPTION:
URL:https://firstideaconsulting.co.ke/event/risk-management-process/
LOCATION:Zoom
END:VEVENT
BEGIN:VEVENT
DTSTART;TZID=Africa/Nairobi:20230330T170000
DTEND;TZID=Africa/Nairobi:20230330T180000
DTSTAMP:20260421T234939
CREATED:20230304T181339Z
LAST-MODIFIED:20230304T181339Z
UID:10000002-1680195600-1680199200@firstideaconsulting.co.ke
SUMMARY:Risk Management Policy
DESCRIPTION:
URL:https://firstideaconsulting.co.ke/event/risk-management-policy/
LOCATION:Zoom
END:VEVENT
BEGIN:VEVENT
DTSTART;TZID=Africa/Nairobi:20230223T170000
DTEND;TZID=Africa/Nairobi:20230223T180000
DTSTAMP:20260421T234939
CREATED:20230304T181159Z
LAST-MODIFIED:20230304T181159Z
UID:10000001-1677171600-1677175200@firstideaconsulting.co.ke
SUMMARY:Risk Management Framework
DESCRIPTION:
URL:https://firstideaconsulting.co.ke/event/risk-management-framework/
LOCATION:Zoom
END:VEVENT
END:VCALENDAR